BEGIN:VCALENDAR
VERSION:2.0
PRODID:https://github.com/derhansen/sf_event_mgt
METHOD:PUBLISH
BEGIN:VEVENT
UID:499-138@euerbach.de
CLASS: PUBLIC
SUMMARY:Aufstellen des Osterbrunnens Euerbach (Euerbach)
DESCRIPTION:
DTSTAMP:20260310T104817Z
DTSTART:20260329T120000Z
DTEND:20260329T150000Z
END:VEVENT
END:VCALENDAR
