BEGIN:VCALENDAR
VERSION:2.0
PRODID:https://github.com/derhansen/sf_event_mgt
METHOD:PUBLISH
BEGIN:VEVENT
UID:336-138@euerbach.de
CLASS: PUBLIC
SUMMARY:Aufstellen des Osterbrunnens Euerbach (Euerbach)
DESCRIPTION:
DTSTAMP:20250108T140559Z
DTSTART:20250406T120000Z
END:VEVENT
END:VCALENDAR
