BEGIN:VCALENDAR
VERSION:2.0
PRODID:https://github.com/derhansen/sf_event_mgt
METHOD:PUBLISH
BEGIN:VEVENT
UID:446-138@euerbach.de
CLASS: PUBLIC
SUMMARY:Aufstellen des Osterbrunnens der Landfrauen Sömmersdorf (Sömmersdor
 f)
DESCRIPTION:
LOCATION:Passionsgarten Sömmersdorf
DTSTAMP:20251125T122442Z
DTSTART:20260329T120000Z
DTEND:20260329T160000Z
END:VEVENT
END:VCALENDAR
