BEGIN:VCALENDAR
VERSION:2.0
PRODID:https://github.com/derhansen/sf_event_mgt
METHOD:PUBLISH
BEGIN:VEVENT
UID:187-138@euerbach.de
CLASS: PUBLIC
SUMMARY:Arbeitseinsatz, Freundes- und Förderkreis der DPSG Euerbach (Euerba
 ch)
DESCRIPTION:
LOCATION:Pfadfinderzeltplatz Euerbach
DTSTAMP:20250108T140559Z
DTSTART:20250524T070000Z
DTEND:20250524T130000Z
END:VEVENT
END:VCALENDAR
