BEGIN:VCALENDAR
VERSION:2.0
PRODID:https://github.com/derhansen/sf_event_mgt
METHOD:PUBLISH
BEGIN:VEVENT
UID:416-138@euerbach.de
CLASS: PUBLIC
SUMMARY:Apfelblütenfest des Obst- und Gartenbauvereins Euerbach (Euerbach)
DESCRIPTION:
DTSTAMP:20251125T122442Z
DTSTART:20260426T100000Z
DTEND:20260426T140000Z
END:VEVENT
END:VCALENDAR
