BEGIN:VCALENDAR
VERSION:2.0
PRODID:https://github.com/derhansen/sf_event_mgt
METHOD:PUBLISH
BEGIN:VEVENT
UID:328-138@euerbach.de
CLASS: PUBLIC
SUMMARY:Altweiberfasching mit Männerbalett, Dino's Masshoppers Euerbach (Eu
 erbach)
DESCRIPTION:
DTSTAMP:20250108T140559Z
DTSTART:20250227T183000Z
END:VEVENT
END:VCALENDAR
