BEGIN:VCALENDAR
VERSION:2.0
PRODID:https://github.com/derhansen/sf_event_mgt
METHOD:PUBLISH
BEGIN:VEVENT
UID:403-138@euerbach.de
CLASS: PUBLIC
SUMMARY:Altpapiersammlung in Sömmersdorf (Sömmersdorf)
DESCRIPTION:
DTSTAMP:20251125T122442Z
DTSTART:20260418T080000Z
DTEND:20260418T120000Z
END:VEVENT
END:VCALENDAR
