BEGIN:VCALENDAR
VERSION:2.0
PRODID:https://github.com/derhansen/sf_event_mgt
METHOD:PUBLISH
BEGIN:VEVENT
UID:41-138@euerbach.de
CLASS: PUBLIC
SUMMARY:Adventlicher Markt (Euerbach)
DESCRIPTION:
LOCATION:Grundschule Euerbach und Rathausplatz
DTSTAMP:20240425T125605Z
DTSTART:20241123T130000Z
END:VEVENT
END:VCALENDAR
