BEGIN:VCALENDAR
VERSION:2.0
PRODID:https://github.com/derhansen/sf_event_mgt
METHOD:PUBLISH
BEGIN:VEVENT
UID:223-138@euerbach.de
CLASS: PUBLIC
SUMMARY:Adventlicher Markt  (Euerbach)
DESCRIPTION:
DTSTAMP:20250108T140559Z
DTSTART:20251122T130000Z
DTEND:20251122T200000Z
END:VEVENT
END:VCALENDAR
