BEGIN:VCALENDAR
VERSION:2.0
PRODID:https://github.com/derhansen/sf_event_mgt
METHOD:PUBLISH
BEGIN:VEVENT
UID:486-138@euerbach.de
CLASS: PUBLIC
SUMMARY:Abendmusik zum Advent (Obbach)
DESCRIPTION:
LOCATION:Evang. Kirche Obbach
DTSTAMP:20251125T122442Z
DTSTART:20261213T160000Z
DTEND:20261213T170000Z
END:VEVENT
END:VCALENDAR
