BEGIN:VCALENDAR
VERSION:2.0
PRODID:https://github.com/derhansen/sf_event_mgt
METHOD:PUBLISH
BEGIN:VEVENT
UID:280-138@euerbach.de
CLASS: PUBLIC
SUMMARY:Abendmusik zum Advent (Obbach)
DESCRIPTION:
LOCATION:Evang. Kirche Obbach
DTSTAMP:20250108T140559Z
DTSTART:20251214T160000Z
DTEND:20251214T190000Z
END:VEVENT
END:VCALENDAR
