BEGIN:VCALENDAR
VERSION:2.0
PRODID:https://github.com/derhansen/sf_event_mgt
METHOD:PUBLISH
BEGIN:VEVENT
UID:123-138@euerbach.de
CLASS: PUBLIC
SUMMARY:Abendmusik zum Advent (Obbach )
DESCRIPTION:
LOCATION:Evang. Kirche Obbach
DTSTAMP:20240425T125605Z
DTSTART:20241215T160000Z
END:VEVENT
END:VCALENDAR
