BEGIN:VCALENDAR
VERSION:2.0
PRODID:https://github.com/derhansen/sf_event_mgt
METHOD:PUBLISH
BEGIN:VEVENT
UID:274-138@euerbach.de
CLASS: PUBLIC
SUMMARY:70 Jahre Heimatkapelle - Jubiläumskonzert (Sömmersdorf)
DESCRIPTION:
DTSTAMP:20250108T140559Z
DTSTART:20250118T180000Z
END:VEVENT
END:VCALENDAR
