BEGIN:VCALENDAR
VERSION:2.0
PRODID:https://github.com/derhansen/sf_event_mgt
METHOD:PUBLISH
BEGIN:VEVENT
UID:463-138@euerbach.de
CLASS: PUBLIC
SUMMARY:6. Baamazeile-Fest & 20 Jahre Bauwagen des Bauwagen Sömmersdorf e.V
 . (Sömmersdorf)
DESCRIPTION:
LOCATION:Bauwagen Sömmersdorf
DTSTAMP:20251125T122442Z
DTSTART:20260606T120000Z
DTEND:20260606T220000Z
END:VEVENT
END:VCALENDAR
