BEGIN:VCALENDAR
VERSION:2.0
PRODID:https://github.com/derhansen/sf_event_mgt
METHOD:PUBLISH
BEGIN:VEVENT
UID:291-138@euerbach.de
CLASS: PUBLIC
SUMMARY:5. Baamazeile-Fest & 20 Jahre Bauwagen Sömmersdorf (Sömmersdorf)
DESCRIPTION:
LOCATION:Bauwagen Sömmersdorf
DTSTAMP:20250108T140559Z
DTSTART:20250613T220000Z
END:VEVENT
END:VCALENDAR
