BEGIN:VCALENDAR
VERSION:2.0
PRODID:https://github.com/derhansen/sf_event_mgt
METHOD:PUBLISH
BEGIN:VEVENT
UID:366-138@euerbach.de
CLASS: PUBLIC
SUMMARY:28. Skifreizeit (Euerbach)
DESCRIPTION:
DTSTAMP:20251125T122442Z
DTSTART:20261228T230000Z
DTEND:20270104T230000Z
END:VEVENT
END:VCALENDAR
