BEGIN:VCALENDAR
VERSION:2.0
PRODID:https://github.com/derhansen/sf_event_mgt
METHOD:PUBLISH
BEGIN:VEVENT
UID:364-138@euerbach.de
CLASS: PUBLIC
SUMMARY:27. Skifreizeit (Euerbach)
DESCRIPTION:
DTSTAMP:20251125T122442Z
DTSTART:20251228T230000Z
DTEND:20260104T230000Z
END:VEVENT
END:VCALENDAR
