BEGIN:VCALENDAR
VERSION:2.0
PRODID:https://github.com/derhansen/sf_event_mgt
METHOD:PUBLISH
BEGIN:VEVENT
UID:6-138@euerbach.de
CLASS: PUBLIC
SUMMARY:26. Skifreizeit (Euerbach)
DESCRIPTION:
LOCATION:Rosswald, Schweiz
DTSTAMP:20240425T125605Z
DTSTART:20241229T230000Z
DTEND:20250105T230000Z
END:VEVENT
END:VCALENDAR
