BEGIN:VCALENDAR
VERSION:2.0
PRODID:https://github.com/derhansen/sf_event_mgt
METHOD:PUBLISH
BEGIN:VEVENT
UID:201-138@euerbach.de
CLASS: PUBLIC
SUMMARY:150 Jahre Feuerwehr Sömmersdorf (Sömmersdorf)
DESCRIPTION:
LOCATION:Festplatz Sömmersdorf
DTSTAMP:20250108T140559Z
DTSTART:20250523T170000Z
DTEND:20250525T200000Z
END:VEVENT
END:VCALENDAR
